BEGIN:VCALENDAR
VERSION:2.0
PRODID:-//wp-events-plugin.com//7.0.5//EN
TZID:Europe/Berlin
X-WR-TIMEZONE:Europe/Berlin
BEGIN:VEVENT
UID:24847@backup.neucottbus.de
DTSTART;TZID=Europe/Berlin:20260127T160000
DTEND;TZID=Europe/Berlin:20260127T180000
DTSTAMP:20260119T121326Z
URL:https://backup.neucottbus.de/veranstaltungen/buchclub-fuer-junge-fraue
 n-mia-maedchen-in-aktion/
SUMMARY:Buchclub für junge Frauen - MiA - Mädchen in Aktion
DESCRIPTION:
ATTACH;FMTTYPE=image/jpeg:https://backup.neucottbus.de/wp-content/uploads/
 2025/03/Lila-Villa00.png
CATEGORIES:Cottbus,Familie,Kinder und Jugendliche
LOCATION:Stadt- und Regionalbibliothek Cottbus\, Berliner Straße 13/14\, C
 ottbus\, 03046\, Lausitz\, Deutschland
X-APPLE-STRUCTURED-LOCATION;VALUE=URI;X-ADDRESS=Berliner Straße 13/14\, Co
 ttbus\, 03046\, Lausitz\, Deutschland;X-APPLE-RADIUS=100;X-TITLE=Stadt- un
 d Regionalbibliothek Cottbus:geo:0,0
END:VEVENT
BEGIN:VTIMEZONE
TZID:Europe/Berlin
X-LIC-LOCATION:Europe/Berlin
BEGIN:STANDARD
DTSTART:20251026T020000
TZOFFSETFROM:+0200
TZOFFSETTO:+0100
TZNAME:CET
END:STANDARD
END:VTIMEZONE
END:VCALENDAR