BEGIN:VCALENDAR
VERSION:2.0
PRODID:-//wp-events-plugin.com//7.0.5//EN
TZID:Europe/Berlin
X-WR-TIMEZONE:Europe/Berlin
BEGIN:VEVENT
UID:24851@backup.neucottbus.de
DTSTART;TZID=Europe/Berlin:20260124T190000
DTEND;TZID=Europe/Berlin:20260124T210000
DTSTAMP:20260119T133317Z
URL:https://backup.neucottbus.de/veranstaltungen/das-tagebuch-der-anne-fra
 nk-piccolo-jugendklub-spielt-anne-2/
SUMMARY:Das Tagebuch der Anne Frank– Piccolo Jugendklub spielt ANNE
DESCRIPTION:ANNE \nEine Produktion des Piccolo Jugendklubs nach dem Tagebu
 ch der Anne Frank\nSpielleitung: Matthias Heine\n\nVor 80 Jahren\, am 8. M
 ai 1945\, endete der vom Deutschen Reich entfesselte 2. Weltkrieg. Er hatt
 e in sechs Jahren weltweit rund 60 Millionen Menschenleben gefordert. Das 
 europäische Judentum hatten die Deutschen nahezu ausgelöscht. Eines davo
 n war das Leben der fünfzehnjährigen Anne Frank. Im Februar 1945 wurde s
 ie im KZ Bergen-Belsen ermordet. Nur zwei Monate später erreichten englis
 che Truppen das Lager und befreiten die letzten Überlebenden.\nDas jüdis
 che Mädchen Anne Frank versteckt sich mit ihrer Familie vor den Nazis wä
 hrend der Besetzung der Niederlande im Hinterhaus der Amsterdamer Prinseng
 racht 263. Nach 2 Jahren werden sie verraten und entdeckt. In den zwei Jah
 ren im Versteck schreibt Anne über die Ereignisse im Hinterhaus und hält
  ihre Gefühle und Gedanken in ihrem berühmten Tagebuch fest.\nDer Piccol
 o Jugendklub folgt Annes beeindruckender Lebenslinie bis zum Ende. Wie kö
 nnen Rituale der Erinnerung durchbrochen werden\, um zu einer tatsächlich
 en Erinnerung als Arbeit an der Gegenwart zu gelangen?\n\nEine Produktion 
 des Piccolo Jugendklubs für junge Menschen ab 14 Jahren nach dem Tagebuch
  der Anne Frank. Es recherchieren und spielen Laurenz Lorenz\, Lina Patzel
 t\, Lena Patzelt\, Nico Kornisch\, Charlie Müller\, Sam Rudolph\, Celina 
 Siegfried\, Frieda Becker\, Maja Kuschnir\, Hermine Jähne\, Arian Wolff\,
  Carl Ferdinand Thomas\, Isabella Stutzmann\, Weronika Muisalowska\, Lamar
 a Schröder und Charlotte Fröhlich. Spielleitung Matthias Heine.\n\n\n\n
ATTACH;FMTTYPE=image/jpeg:https://backup.neucottbus.de/wp-content/uploads/
 2026/01/Piccolo_Anne_284-scaled.jpg
CATEGORIES:Cottbus,Einzelveranstaltung,Familie,Theater / Tanz / Kabarett
LOCATION:Piccolo Theater Cottbus\, Erich Kästner Platz\, Cottbus\, Branden
 burg\, 03046\, Deutschland
X-APPLE-STRUCTURED-LOCATION;VALUE=URI;X-ADDRESS=Erich Kästner Platz\, Cott
 bus\, Brandenburg\, 03046\, Deutschland;X-APPLE-RADIUS=100;X-TITLE=Piccolo
  Theater Cottbus:geo:0,0
END:VEVENT
BEGIN:VTIMEZONE
TZID:Europe/Berlin
X-LIC-LOCATION:Europe/Berlin
BEGIN:STANDARD
DTSTART:20251026T020000
TZOFFSETFROM:+0200
TZOFFSETTO:+0100
TZNAME:CET
END:STANDARD
END:VTIMEZONE
END:VCALENDAR