BEGIN:VCALENDAR
VERSION:2.0
PRODID:-//wp-events-plugin.com//7.0.5//EN
TZID:Europe/Berlin
X-WR-TIMEZONE:Europe/Berlin
BEGIN:VEVENT
UID:24876@backup.neucottbus.de
DTSTART;TZID=Europe/Berlin:20260128T190000
DTEND;TZID=Europe/Berlin:20260128T210000
DTSTAMP:20260119T150228Z
URL:https://backup.neucottbus.de/veranstaltungen/go-clara-go-ueberlebensku
 nst-am-zonenrand-film-gespraech-obenkino-cottbus/
SUMMARY:GO CLARA GO – ÜBERLEBENSKUNST AM ZONENRAND – Film & Gespräch 
 - Obenkino Cottbus
DESCRIPTION:Wie lassen sich die Grenzen des Sag- und Sichtbaren durch Kunst
  verschieben – trotz oder gerade wegen aller Widerstände? Vor 50 Jahren
  erklärte eine Handvoll KünstlerInnen die einstige sozialistische Vorzei
 gestadt Chemnitz/Karl-Marx-Stadt zur avantgardistischen Happening-Zone. Ob
  stumme Performances oder Pleinairs an der See\, überbordende Künstlerfe
 ste oder kaltnadelradierte Kollektivwerke – die Künstlergruppe Clara Mo
 sch und die genossenschaftlich organisierte Galerie Oben haben seit den 70
 er Jahren bewiesen\, dass Kunst in der DDR frei sein kann. Und westlichen 
 Vorbildern wie Joseph Beuys in nichts nachsteht.\nMit ihrem Dokumentarfilm
  GO CLARA GO legt die Regisseurin Sylvie Kürsten ein Ausnahmekapitel ostd
 eutscher Kunstgeschichte offen. Zusammen mit den ProtagonistInnen von dama
 ls spürt sie der kreativen Energie dieses subkulturellen Durchlauferhitze
 rs am sächsischen Erzgebirgsrand nach – und taucht tief ein in diese le
 gendäre DDR-Parallelwelt\, in der Kunst und Leben immer zusammen gehörte
 n. Das zog zahlreiche Fans an\, aber auch die Spitzel der Stasi. Ein filmi
 sches Fest für die nonkonforme Kunst aus dem Osten und eine Hommage an di
 e Heimat.\n\nIm Gespräch: Sylvie Kürsten | Regisseurin und Ulrike Kremei
 er | Direktorin BLMK\n\nDE 2025 | 93 Min | FSK: 0 | Buch &amp\; Regie: Syl
 vie Kürsten\n\nFilm zur Ausstellung: Die Tage waren gezählt Künstlerbü
 cher und -zeitschriften mit Originalgrafik und Fotografie aus der späten 
 DDR und Ostdeutschland 29.11.25 – 15.2.26\nBrandenburgisches Landesmuseu
 m für moderne Kunst | Dieselkraftwerk | Cottbus\nDie Ausstellung widmet s
 ich Künstlerbüchern und -zeitschriften aus der DDR und Ostdeutschland au
 s dem Zeitraum 1980 bis 1995. Die Ausstellung fächert unterschiedliche As
 pekte jenes erstmalig museal behandelten Themenfeldes auf und reflektiert 
 gleichermaßen die Sammlung des BLMK\, die einen einzigartigen Bestand an 
 Künstlerbüchern und -zeitschriften beinhaltet. | www.blmk.de
ATTACH;FMTTYPE=image/jpeg:https://backup.neucottbus.de/wp-content/uploads/
 2024/12/8dd12f091f23e3975509b209bf43d00726d48ff4fc767adc71dc0b17a6bff5e2.j
 pg
CATEGORIES:Cottbus,Kino
LOCATION:Obenkino\, Straße der Jugend 16\, Cottbus\, 03046\, Brandenburg\,
  Deutschland
GEO:51.754318;14.333652
X-APPLE-STRUCTURED-LOCATION;VALUE=URI;X-ADDRESS=Straße der Jugend 16\, Cot
 tbus\, 03046\, Brandenburg\, Deutschland;X-APPLE-RADIUS=100;X-TITLE=Obenki
 no:geo:51.754318,14.333652
END:VEVENT
BEGIN:VTIMEZONE
TZID:Europe/Berlin
X-LIC-LOCATION:Europe/Berlin
BEGIN:STANDARD
DTSTART:20251026T020000
TZOFFSETFROM:+0200
TZOFFSETTO:+0100
TZNAME:CET
END:STANDARD
END:VTIMEZONE
END:VCALENDAR