BEGIN:VCALENDAR
VERSION:2.0
PRODID:-//wp-events-plugin.com//7.0.5//EN
TZID:Europe/Berlin
X-WR-TIMEZONE:Europe/Berlin
BEGIN:VEVENT
UID:24832@backup.neucottbus.de
DTSTART;TZID=Europe/Berlin:20260120T150000
DTEND;TZID=Europe/Berlin:20260120T190000
DTSTAMP:20260119T095440Z
URL:https://backup.neucottbus.de/veranstaltungen/guided-tour-of-the-cottbu
 s-prison-memorial/
SUMMARY:Guided Tour of the Cottbus Prison Memorial
DESCRIPTION:We invite you to a guided tour of the Cottbus Prison Memorial o
 n January 20\, 2026 at 3.00 p.m. The former prison\, in operation from 186
 0 to 2002\, offers a unique perspective on two dark chapters of German his
 tory. The tour focuses on its use under two dictatorships: During the Nazi
  era\, Cottbus served as a youth prison until 1936 and then as a women’s
  prison until 1945. During the GDR\, the site became a political prison\, 
 where countless people were incarcerated for opposing the regime. The tour
  includes both the outdoor areas and a visit to the permanent exhibition. 
 It will be held in English and is limited to 25 participants. Participatio
 n in the tour costs €5 per person plus admission (€8/reduced €5). Pa
 yment on site.\n\nRegistration until January 18\, 2026\nby phone: +49 (355
 ) 29 01 33 - 0 or via email: anmeldung@menschenrechtszentrum-cottbus.de.
ATTACH;FMTTYPE=image/jpeg:https://backup.neucottbus.de/wp-content/uploads/
 2026/01/Ehemaliges-Hafthaus-Menschenrechtszentrum-Cottbus-e-V-scaled.jpg
CATEGORIES:Cottbus,Einzelveranstaltung,Führung / Besichtigung
LOCATION:Gedenkstätte Zuchthaus Cottbus\, Bautzener Straße 140\, Cottbus\
 , Brandenburg\, 03050\, Deutschland
X-APPLE-STRUCTURED-LOCATION;VALUE=URI;X-ADDRESS=Bautzener Straße 140\, Cot
 tbus\, Brandenburg\, 03050\, Deutschland;X-APPLE-RADIUS=100;X-TITLE=Gedenk
 stätte Zuchthaus Cottbus:geo:0,0
END:VEVENT
BEGIN:VTIMEZONE
TZID:Europe/Berlin
X-LIC-LOCATION:Europe/Berlin
BEGIN:STANDARD
DTSTART:20251026T020000
TZOFFSETFROM:+0200
TZOFFSETTO:+0100
TZNAME:CET
END:STANDARD
END:VTIMEZONE
END:VCALENDAR