BEGIN:VCALENDAR
VERSION:2.0
PRODID:-//wp-events-plugin.com//7.0.5//EN
TZID:Europe/Berlin
X-WR-TIMEZONE:Europe/Berlin
BEGIN:VEVENT
UID:24849@backup.neucottbus.de
DTSTART;TZID=Europe/Berlin:20260122T143000
DTEND;TZID=Europe/Berlin:20260122T160000
DTSTAMP:20260119T130306Z
URL:https://backup.neucottbus.de/veranstaltungen/infotalk-und-live-unterri
 cht-an-der-berufsfachschule-fuer-sozialwesen-in-cottbus/
SUMMARY:INFOTALK UND LIVE-UNTERRICHT AN DER BERUFSFACHSCHULE FÜR SOZIALWES
 EN IN COTTBUS
DESCRIPTION:Einen Beruf finden\, der erfüllt. Darum geht es beim Infotalk 
 der Beruflichen Schule für Sozialwesen Cottbus am 22. Januar 2026. Von 14
 :30 bis 16:00 Uhr öffnet die Schule in der Parzellenstraße 10 ihre Türe
 n für alle\, die mehr über Ausbildungen im Sozialbereich erfahren möcht
 en.\n\nIm Fokus stehen die Ausbildungen zum Sozialassistenten (m/w/d)\, Er
 zieher (m/w/d)\, Heilerziehungspfleger (m/w/d) und Heilpädagogen (m/w/d) 
 – Berufe\, in denen man mit und für Menschen arbeitet. Eingeladen sind 
 alle\, die ihre berufliche Zukunft im sozialen Bereich sehen: sowohl Schul
 absolventinnen und -absolventen als auch Quereinsteigerinnen und Quereinst
 eiger oder Personen\, die sich beruflich weiterentwickeln möchten.\n\nDie
  Gäste erwartet ein abwechslungsreiches Programm\, das von den Schülerin
 nen und Schülern der Schule aktiv mitgestaltet wird. Neben einer Führung
  durch die Schule gibt es Informations- und Beratungsgespräche\, in denen
  detaillierte Einblicke in Bewerbungsabläufe\, Unterrichtsalltag und beru
 fliche Zukunftschancen gegeben werden.\n\nWer sich gleich bewerben möchte
 \, kann seine Unterlagen direkt mitbringen. Der nächste Ausbildungsstart 
 ist August 2026.\n\nBesonderes Highlight: Schnupperunterricht ab 13:30 Uhr
 \nBereits um 13:30 Uhr haben interessierte Besucherinnen und Besucher die 
 Möglichkeit\, den Unterricht 90 Minuten live mitzuerleben und sich einen 
 authentischen Eindruck vom Schulalltag zu verschaffen. Eine kurze Anmeldun
 g zur Schnupperstunde ist per E-Mail an cottbus@deb-gruppe.org möglich.\n
 \nAlle weiteren Informationen zur Veranstaltung und zu den Ausbildungsange
 boten finden sich unter.
ATTACH;FMTTYPE=image/jpeg:https://backup.neucottbus.de/wp-content/uploads/
 2026/01/DEW.png
CATEGORIES:Cottbus,Einzelveranstaltung,Weiterbildung
LOCATION:DEUTSCHES ERWACHSENEN-BILDUNGSWERK IN BRANDENBURG gemeinnützige S
 chulträger-GmbH\, Parzellenstraße 10\, Cottbus\, Brandenburg\, 03046\, L
 ausitz\, Deutschland
X-APPLE-STRUCTURED-LOCATION;VALUE=URI;X-ADDRESS=Parzellenstraße 10\, Cottb
 us\, Brandenburg\, 03046\, Lausitz\, Deutschland;X-APPLE-RADIUS=100;X-TITL
 E=DEUTSCHES ERWACHSENEN-BILDUNGSWERK IN BRANDENBURG gemeinnützige Schultr
 äger-GmbH:geo:0,0
END:VEVENT
BEGIN:VTIMEZONE
TZID:Europe/Berlin
X-LIC-LOCATION:Europe/Berlin
BEGIN:STANDARD
DTSTART:20251026T020000
TZOFFSETFROM:+0200
TZOFFSETTO:+0100
TZNAME:CET
END:STANDARD
END:VTIMEZONE
END:VCALENDAR