BEGIN:VCALENDAR
VERSION:2.0
PRODID:-//wp-events-plugin.com//7.0.5//EN
TZID:Europe/Berlin
X-WR-TIMEZONE:Europe/Berlin
BEGIN:VEVENT
UID:24834@backup.neucottbus.de
DTSTART;TZID=Europe/Berlin:20260205T110000
DTEND;TZID=Europe/Berlin:20260205T130000
DTSTAMP:20260119T101700Z
URL:https://backup.neucottbus.de/veranstaltungen/lost-places-oeffentliche-
 fuehrungen-durch-verborgene-orte-der-ehemaligen-haftanstalt/
SUMMARY:Lost Places – Öffentliche Führungen durch verborgene Orte der e
 hemaligen Haftanstalt
DESCRIPTION:Am Donnerstag\, 5. und Freitag\, 6. Februar 2026 lädt die Gede
 nkstätte Zuchthaus Cottbus jeweils um 11 Uhr zur geführten Erkundung der
  verfallenen Gebäude und Katakomben ein\, die sonst aufgrund ihres unsani
 erten Zustandes für den normalen Besucherverkehr nicht zugänglich sind. 
 Der knapp zweistündige Rundgang führt durch die Lost Places der Cottbuse
 r Haftanstalt – wie die frühere Ambulanz\, die Arbeitshallen und Arrest
 zellen. Sie alle standen über Jahrzehnte leer\, der Verfall nagt an ihnen
 \, an einigen Stellen hat sich die Natur das Gelände zurückerobert.\nDie
  Teilnahme an den öffentlichen Sonderführungen ist an diesen Tagen ausna
 hmsweise zu einem ermäßigten Preis von 20€ möglich und beinhaltet zug
 leich den Eintritt in die Ausstellungen. Bitte beachten Sie\, dass der Run
 dgang aufgrund von Treppen und schmalen\, dunklen Gängen leider nicht bar
 rierefrei ist.\n\nBegrenzte Plätze (max. 10 Teilnehmende pro Termin)\, An
 meldung bis zum 3. Februar 2026 unter anmeldung@menschenrechtszentrum-cott
 bus.de oder der Telefonnummer +49 (03 55) 29 01 33 – 0. Die Zahlung erfo
 lgt vor Ort.
ATTACH;FMTTYPE=image/jpeg:https://backup.neucottbus.de/wp-content/uploads/
 2026/01/Verborgene-Orte-in-der-Gedenkstaette-Zuchthaus-Cottbus.jpg
CATEGORIES:Cottbus,Einzelveranstaltung,Führung / Besichtigung
LOCATION:Gedenkstätte Zuchthaus Cottbus\, Bautzener Straße 140\, Cottbus\
 , Brandenburg\, 03050\, Deutschland
X-APPLE-STRUCTURED-LOCATION;VALUE=URI;X-ADDRESS=Bautzener Straße 140\, Cot
 tbus\, Brandenburg\, 03050\, Deutschland;X-APPLE-RADIUS=100;X-TITLE=Gedenk
 stätte Zuchthaus Cottbus:geo:0,0
END:VEVENT
BEGIN:VTIMEZONE
TZID:Europe/Berlin
X-LIC-LOCATION:Europe/Berlin
BEGIN:STANDARD
DTSTART:20251026T020000
TZOFFSETFROM:+0200
TZOFFSETTO:+0100
TZNAME:CET
END:STANDARD
END:VTIMEZONE
END:VCALENDAR