BEGIN:VCALENDAR
VERSION:2.0
PRODID:-//wp-events-plugin.com//7.0.5//EN
TZID:Europe/Berlin
X-WR-TIMEZONE:Europe/Berlin
BEGIN:VEVENT
UID:24852@backup.neucottbus.de
DTSTART;TZID=Europe/Berlin:20260119T170000
DTEND;TZID=Europe/Berlin:20260119T190000
DTSTAMP:20260119T140903Z
URL:https://backup.neucottbus.de/veranstaltungen/mothers-baby-obenkino-cot
 tbus/
SUMMARY:MOTHER’S BABY - Obenkino Cottbus
DESCRIPTION:Julia und Georg\, beide in ihren Vierzigern\, sehnen sich nach 
 einem Kind. Bisher blieben alle Bemühungen erfolglos. Doch der charismati
 sche Dr. Vilfort gibt ihnen Hoffnung\, und tatsächlich ist die neuartige 
 Behandlung in seiner Klinik erfolgreich – Julia wird schwanger.\nDoch na
 ch der Geburt wird das Baby sofort weggebracht. Als die frischgebackene Mu
 tter ihr Neugeborenes am folgenden Tag endlich in den Armen hält\, fühlt
  sie sich seltsam distanziert. Warum ist das Baby so still und apathisch? 
 Irgendetwas stimmt hier nicht. Was\, wenn die Geburt eines Kindes statt de
 s erhofften Familienglücks ganz andere Gefühle auslöst – Ängste und 
 Bedauern\, eine Depression?\n\nJohanna Moders Auseinandersetzung mit der T
 hematik ist unbequem\, emotional komplex und herrlich düster. Marie Leuen
 berger verkörpert Hauptfigur Julia mit kühler Intensität. Der Film feie
 rte seine Weltpremiere im Wettbewerb der Berlinale 2025: Ein fantasievolle
 r Thriller über das Eltern-Werden aus Österreich\, der Schweiz und Deuts
 chland.\n\n„Ein meisterhaftes Spiel mit Unschärfen und Doppeldeutigkeit
 en.“ Spot\n\nAT\, CH\, DE 2025 | 108 Min | FSK: 12 | Regie: Johanna Mode
 r | DarstellerInnen: Marie Leuenberger\, Hans Löw\, Claes Bang\, Julia Fr
 anz Richter
ATTACH;FMTTYPE=image/jpeg:https://backup.neucottbus.de/wp-content/uploads/
 2024/12/735e642a7c2e51e222de2d5fb7957c24d6c6e6df50e08d58639ce3e8553d9f86-s
 caled.jpg
CATEGORIES:Cottbus,Film
LOCATION:Obenkino\, Straße der Jugend 16\, Cottbus\, 03046\, Brandenburg\,
  Deutschland
GEO:51.754318;14.333652
X-APPLE-STRUCTURED-LOCATION;VALUE=URI;X-ADDRESS=Straße der Jugend 16\, Cot
 tbus\, 03046\, Brandenburg\, Deutschland;X-APPLE-RADIUS=100;X-TITLE=Obenki
 no:geo:51.754318,14.333652
END:VEVENT
BEGIN:VTIMEZONE
TZID:Europe/Berlin
X-LIC-LOCATION:Europe/Berlin
BEGIN:STANDARD
DTSTART:20251026T020000
TZOFFSETFROM:+0200
TZOFFSETTO:+0100
TZNAME:CET
END:STANDARD
END:VTIMEZONE
END:VCALENDAR