BEGIN:VCALENDAR
VERSION:2.0
PRODID:-//wp-events-plugin.com//7.0.5//EN
TZID:Europe/Berlin
X-WR-TIMEZONE:Europe/Berlin
BEGIN:VEVENT
UID:24866@backup.neucottbus.de
DTSTART;TZID=Europe/Berlin:20260124T200000
DTEND;TZID=Europe/Berlin:20260124T220000
DTSTAMP:20260119T143645Z
URL:https://backup.neucottbus.de/veranstaltungen/rote-sterne-ueberm-feld-o
 benkino-cottbus-2026-01-24/
SUMMARY:ROTE STERNE ÜBERM FELD - Obenkino Cottbus
DESCRIPTION:Mitten in der ostdeutschen Provinz wird ein wohlkonserviertes S
 kelett aus dem Moor gezogen. Tine und das Dorf spekulieren: Wer könnte da
 s gewesen sein? Ein desertierter Wehrmachtssoldat? Ein verzweifelter LPGle
 r? Der ominöse 3. Mann vom BND?\nEs entspinnt sich ein historisches Räts
 el\, in dem das letzte deutsche Jahrhundert im Heute eines Landstrichs auf
 scheint. Tine fragt sich: Was geht mich das an? Bis sie am eigenen Leib er
 fährt\, wie sich die Geschichte in ihr Leben mischt.\n„Ein solches entg
 renztes Debüt sieht man im deutschen Kino nicht oft.\nLaura Laabs greift 
 lustvoll und ungebremst in die Trickkiste des Kinos\,\nin unterschiedliche
 n Formaten und Tonalitäten\, in Farbe und Schwarz-Weiß\,\nmit melodramat
 ischen\, expressionistischen\, realistischen Mitteln\,\nsogar mit Musical-
 Elementen\, umkreist sie den Trümmerhaufen\,\nden wir Geschichte nennen.
 “\nKnut Elstermann\n&nbsp\;\n\nDE\, AT 2025 | 133 Min | FSK: 6 | Buch &a
 mp\; Regie: Laura Laabs | DarstellerInnen: Hannah Ehrlichmann\, Jule Böwe
 \, Hermann Beyer\, Andreas Döhler\, Jenny Schily
ATTACH;FMTTYPE=image/jpeg:https://backup.neucottbus.de/wp-content/uploads/
 2024/12/8dd12f091f23e3975509b209bf43d00726d48ff4fc767adc71dc0b17a6bff5e2.j
 pg
CATEGORIES:Cottbus,Familie,Film,Kino
LOCATION:Obenkino\, Straße der Jugend 16\, Cottbus\, 03046\, Brandenburg\,
  Deutschland
GEO:51.754318;14.333652
X-APPLE-STRUCTURED-LOCATION;VALUE=URI;X-ADDRESS=Straße der Jugend 16\, Cot
 tbus\, 03046\, Brandenburg\, Deutschland;X-APPLE-RADIUS=100;X-TITLE=Obenki
 no:geo:51.754318,14.333652
END:VEVENT
BEGIN:VTIMEZONE
TZID:Europe/Berlin
X-LIC-LOCATION:Europe/Berlin
BEGIN:STANDARD
DTSTART:20251026T020000
TZOFFSETFROM:+0200
TZOFFSETTO:+0100
TZNAME:CET
END:STANDARD
END:VTIMEZONE
END:VCALENDAR