BEGIN:VCALENDAR
VERSION:2.0
PRODID:-//wp-events-plugin.com//7.0.5//EN
TZID:Europe/Berlin
X-WR-TIMEZONE:Europe/Berlin
BEGIN:VEVENT
UID:24846@backup.neucottbus.de
DTSTART;TZID=Europe/Berlin:20260127T160000
DTEND;TZID=Europe/Berlin:20260127T180000
DTSTAMP:20260119T121204Z
URL:https://backup.neucottbus.de/veranstaltungen/suppe-kochen-mia-maedchen
 -in-aktion/
SUMMARY:Suppe Kochen - MiA - Mädchen in Aktion
DESCRIPTION:
ATTACH;FMTTYPE=image/jpeg:https://backup.neucottbus.de/wp-content/uploads/
 2025/03/Lila-Villa00.png
CATEGORIES:Cottbus,Familie,Kinder und Jugendliche
LOCATION:MiA - Mädchen in Aktion - Frauenzentrum Cottbus e. V.\, Thiemstra
 ße 55\, 03050 Cottbus\, 03046 Cottbus\, 03050\, Brandenburg\, Deutschland
GEO:51.742669;14.325877
X-APPLE-STRUCTURED-LOCATION;VALUE=URI;X-ADDRESS=Thiemstraße 55\, 03050 Cot
 tbus\, 03046 Cottbus\, 03050\, Brandenburg\, Deutschland;X-APPLE-RADIUS=10
 0;X-TITLE=MiA - Mädchen in Aktion - Frauenzentrum Cottbus e. V.:geo:51.74
 2669,14.325877
END:VEVENT
BEGIN:VTIMEZONE
TZID:Europe/Berlin
X-LIC-LOCATION:Europe/Berlin
BEGIN:STANDARD
DTSTART:20251026T020000
TZOFFSETFROM:+0200
TZOFFSETTO:+0100
TZNAME:CET
END:STANDARD
END:VTIMEZONE
END:VCALENDAR