BEGIN:VCALENDAR
VERSION:2.0
PRODID:-//wp-events-plugin.com//7.0.5//EN
TZID:Europe/Berlin
X-WR-TIMEZONE:Europe/Berlin
BEGIN:VEVENT
UID:24874@backup.neucottbus.de
DTSTART;TZID=Europe/Berlin:20260127T093000
DTEND;TZID=Europe/Berlin:20260127T113000
DTSTAMP:20260119T145327Z
URL:https://backup.neucottbus.de/veranstaltungen/treasure-familie-ist-ein-
 fremdes-land-film-gespraech-obenkino-cottbus/
SUMMARY:TREASURE - FAMILIE IST EIN FREMDES LAND – Film & Gespräch - Oben
 kino Cottbus
DESCRIPTION:Film &amp\; Gespräch | Schulvorstellung *\nEinführung\, Film 
 &amp\; Diskussion\nIm Gespräch: Alesch Mühlbauer | Bildungsreferent Mens
 chenrechtszentrum Cottbus e. V.\n\nKurz nach dem Fall des Eisernen Vorhang
 s reist die New Yorker Musik-Journalistin Ruth in Begleitung ihres Vaters 
 Edek nach Polen\, um dem Vermächtnis ihrer jüdischen Familie auf den Gru
 nd zu gehen. Für Edek\, einen Holocaust-Überlebenden\, ist es die erste 
 Reise zurück zu den Orten seiner Kindheit. Während Ruth entschlossen ist
 \, die Traumata ihrer Eltern besser zu verstehen\, will der stets vergnüg
 te Edek die Vergangenheit ruhen lassen. So sabotiert er Ruths Pläne und s
 orgt dabei für mehr als nur eine unfreiwillig komische Situation. In dies
 er erlebnisreichen Woche decken die beiden alte Familiengeheimnisse auf. A
 us ihrer brüchigen Beziehung wächst Liebe und tiefes Verständnis.\n\nDu
 rch die Auseinandersetzung mit der erschütternden Vergangenheit ihrer Fam
 ilie findet das charismatische Vater-Tochter-Duo im Laufe ihrer Reise endl
 ich wieder einen Weg zueinander. Die deutsche Filmemacherin und Drehbuchau
 torin Julia von Heinz inszeniert diese bewegende Familiengeschichte feinf
 ühlig und mit warmem Humor.\n\nEine Veranstaltung in Kooperation mit dem 
 Menschenrechtszentrum Cottbus e. V. | Im Rahmen des „Augen auf-Kinotags
 “ / Kinotag+ anlässlich des Tages des Gedenkens an die Opfer des Nation
 alsozialismus der Stiftung Erinnerung\, Verantwortung und Zukunft (EVZ).\n
 \n* Hinweis: Schulvorstellung | Empfohlen ab 10. Klasse / Altersempfehlung
 : ab 15 Jahren | Eintritt 4\,50 € je SchülerIn | Nur mit Voranmeldung: 
 obenkino@gladhouse.de | Tel. 0355 3802430
ATTACH;FMTTYPE=image/jpeg:https://backup.neucottbus.de/wp-content/uploads/
 2024/12/8dd12f091f23e3975509b209bf43d00726d48ff4fc767adc71dc0b17a6bff5e2.j
 pg
CATEGORIES:Cottbus,Kino
LOCATION:Obenkino\, Straße der Jugend 16\, Cottbus\, 03046\, Brandenburg\,
  Deutschland
GEO:51.754318;14.333652
X-APPLE-STRUCTURED-LOCATION;VALUE=URI;X-ADDRESS=Straße der Jugend 16\, Cot
 tbus\, 03046\, Brandenburg\, Deutschland;X-APPLE-RADIUS=100;X-TITLE=Obenki
 no:geo:51.754318,14.333652
END:VEVENT
BEGIN:VTIMEZONE
TZID:Europe/Berlin
X-LIC-LOCATION:Europe/Berlin
BEGIN:STANDARD
DTSTART:20251026T020000
TZOFFSETFROM:+0200
TZOFFSETTO:+0100
TZNAME:CET
END:STANDARD
END:VTIMEZONE
END:VCALENDAR